BEGIN:VCALENDAR
VERSION:2.0
PRODID:-//Barnsdall Chamber - ECPv6.15.20//NONSGML v1.0//EN
CALSCALE:GREGORIAN
METHOD:PUBLISH
X-WR-CALNAME:Barnsdall Chamber
X-ORIGINAL-URL:https://barnsdallchamber.com
X-WR-CALDESC:Events for Barnsdall Chamber
REFRESH-INTERVAL;VALUE=DURATION:PT1H
X-Robots-Tag:noindex
X-PUBLISHED-TTL:PT1H
BEGIN:VTIMEZONE
TZID:UTC
BEGIN:STANDARD
TZOFFSETFROM:+0000
TZOFFSETTO:+0000
TZNAME:UTC
DTSTART:20250101T000000
END:STANDARD
END:VTIMEZONE
BEGIN:VEVENT
DTSTART;TZID=UTC:20260505T163000
DTEND;TZID=UTC:20260505T173000
DTSTAMP:20260424T001621
CREATED:20260416T180447Z
LAST-MODIFIED:20260416T180447Z
UID:3737-1777998600-1778002200@barnsdallchamber.com
SUMMARY:City Council Meeting
DESCRIPTION:
URL:https://barnsdallchamber.com/event/city-council-meeting/
LOCATION:City Hall\, United States
END:VEVENT
BEGIN:VEVENT
DTSTART;TZID=UTC:20260512T183000
DTEND;TZID=UTC:20260512T193000
DTSTAMP:20260424T001621
CREATED:20260402T141757Z
LAST-MODIFIED:20260416T180753Z
UID:3727-1778610600-1778614200@barnsdallchamber.com
SUMMARY:Osage Republican Party Meeting
DESCRIPTION:
URL:https://barnsdallchamber.com/event/osage-republican-party-meeting/
LOCATION:Rep Party 505 Main St.\, 505 Main Street\, Barnsdall
END:VEVENT
END:VCALENDAR